BEGIN:VCALENDAR
VERSION:2.0
PRODID:-//Jemaat GPM Silo - ECPv4.9.0.3//NONSGML v1.0//EN
CALSCALE:GREGORIAN
METHOD:PUBLISH
X-WR-CALNAME:Jemaat GPM Silo
X-ORIGINAL-URL:https://jemaatgpmsilo.org
X-WR-CALDESC:Events for Jemaat GPM Silo
BEGIN:VEVENT
DTSTART;TZID=UTC+9:20190718T100000
DTEND;TZID=UTC+9:20190718T123000
DTSTAMP:20260422T135826
CREATED:20190715T001847Z
LAST-MODIFIED:20190715T001847Z
UID:12599-1563444000-1563453000@jemaatgpmsilo.org
SUMMARY:POSYANDU EUNIKE DAN SILOAM
DESCRIPTION:Syaloom..!! \nDiinformasikan bahwa pada Kamis 18 Juli 2019 akan dilaksanakan pelayanan kesehatan Posyandu Eunike dan Siloam bertempat di ruang serba guna Gedung Gereja Silo. \nMohon kehadiran warga jemaat yang membutuhkan pelayanan kesehatan dimaksud. \nSyaloomm..!! \n
URL:https://jemaatgpmsilo.org/?tribe_events=posyandu-eunike-dan-siloam
LOCATION:Gereja SILO\, Jln A.M. Sangadji No 47\, Ambon\, Maluku\, 97124\, Indonesia
CATEGORIES:Pelayanan Kesehatan
END:VEVENT
END:VCALENDAR